BEGIN:VCALENDAR
VERSION:2.0
PRODID:-//National Chinchilla Society - ECPv6.15.20//NONSGML v1.0//EN
CALSCALE:GREGORIAN
METHOD:PUBLISH
X-ORIGINAL-URL:https://nationalchinchillasociety.co.uk
X-WR-CALDESC:Events for National Chinchilla Society
REFRESH-INTERVAL;VALUE=DURATION:PT1H
X-Robots-Tag:noindex
X-PUBLISHED-TTL:PT1H
BEGIN:VTIMEZONE
TZID:Europe/London
BEGIN:DAYLIGHT
TZOFFSETFROM:+0000
TZOFFSETTO:+0100
TZNAME:BST
DTSTART:20240331T010000
END:DAYLIGHT
BEGIN:STANDARD
TZOFFSETFROM:+0100
TZOFFSETTO:+0000
TZNAME:GMT
DTSTART:20241027T010000
END:STANDARD
BEGIN:DAYLIGHT
TZOFFSETFROM:+0000
TZOFFSETTO:+0100
TZNAME:BST
DTSTART:20250330T010000
END:DAYLIGHT
BEGIN:STANDARD
TZOFFSETFROM:+0100
TZOFFSETTO:+0000
TZNAME:GMT
DTSTART:20251026T010000
END:STANDARD
BEGIN:DAYLIGHT
TZOFFSETFROM:+0000
TZOFFSETTO:+0100
TZNAME:BST
DTSTART:20260329T010000
END:DAYLIGHT
BEGIN:STANDARD
TZOFFSETFROM:+0100
TZOFFSETTO:+0000
TZNAME:GMT
DTSTART:20261025T010000
END:STANDARD
END:VTIMEZONE
BEGIN:VEVENT
DTSTART;TZID=Europe/London:20251130T080000
DTEND;TZID=Europe/London:20251130T170000
DTSTAMP:20260420T150341
CREATED:20250917T190227Z
LAST-MODIFIED:20250917T190356Z
UID:2509-1764489600-1764522000@nationalchinchillasociety.co.uk
SUMMARY:Northern Regional Show\, Birdwell
DESCRIPTION:Judge: TBC.  Doors open 8am\, registration starts at 10am and judging commences at 10.45am.  A small entry fee of £2 per animal applies.  Forms for registration will be issued nearer to the show date.  Refreshments available and everyone is welcome!  More information about the shows can be found in the downloads area and for any further questions please contact us.
URL:https://nationalchinchillasociety.co.uk/events/northern-regional-show-birdwell-3/
LOCATION:Birdwell Community Centre\, Rockingham Street\, Birdwell\, Yorkshire\, S70 5TQ\, United Kingdom
ORGANIZER;CN="Joanne Rycroft":MAILTO:editor@nationalchinchillasociety.co.uk
END:VEVENT
END:VCALENDAR