BEGIN:VCALENDAR
VERSION:2.0
PRODID:-//National Chinchilla Society - ECPv6.15.20//NONSGML v1.0//EN
CALSCALE:GREGORIAN
METHOD:PUBLISH
X-WR-CALNAME:National Chinchilla Society
X-ORIGINAL-URL:https://nationalchinchillasociety.co.uk
X-WR-CALDESC:Events for National Chinchilla Society
REFRESH-INTERVAL;VALUE=DURATION:PT1H
X-Robots-Tag:noindex
X-PUBLISHED-TTL:PT1H
BEGIN:VTIMEZONE
TZID:Europe/London
BEGIN:DAYLIGHT
TZOFFSETFROM:+0000
TZOFFSETTO:+0100
TZNAME:BST
DTSTART:20210328T010000
END:DAYLIGHT
BEGIN:STANDARD
TZOFFSETFROM:+0100
TZOFFSETTO:+0000
TZNAME:GMT
DTSTART:20211031T010000
END:STANDARD
BEGIN:DAYLIGHT
TZOFFSETFROM:+0000
TZOFFSETTO:+0100
TZNAME:BST
DTSTART:20220327T010000
END:DAYLIGHT
BEGIN:STANDARD
TZOFFSETFROM:+0100
TZOFFSETTO:+0000
TZNAME:GMT
DTSTART:20221030T010000
END:STANDARD
BEGIN:DAYLIGHT
TZOFFSETFROM:+0000
TZOFFSETTO:+0100
TZNAME:BST
DTSTART:20230326T010000
END:DAYLIGHT
BEGIN:STANDARD
TZOFFSETFROM:+0100
TZOFFSETTO:+0000
TZNAME:GMT
DTSTART:20231029T010000
END:STANDARD
END:VTIMEZONE
BEGIN:VEVENT
DTSTART;TZID=Europe/London:20221106T080000
DTEND;TZID=Europe/London:20221106T170000
DTSTAMP:20260424T145641
CREATED:20220804T073054Z
LAST-MODIFIED:20221007T172136Z
UID:2294-1667721600-1667754000@nationalchinchillasociety.co.uk
SUMMARY:Northern Regional Show\, Birdwell
DESCRIPTION:Judge: Kerry Bradburn.  Doors open 8am\, registration starts at 10am and judging commences at 10.45am.  A small entry fee per animal applies.  Forms for registration will be issued nearer to the show date.  Refreshments available and everyone’s welcome!  More information about the shows can be found in the downloads area and for any further questions please contact us.
URL:https://nationalchinchillasociety.co.uk/events/northern-regional-show/
LOCATION:Birdwell Community Centre\, Rockingham Street\, Birdwell\, Yorkshire\, S70 5TQ\, United Kingdom
ATTACH;FMTTYPE=image/jpeg:https://nationalchinchillasociety.co.uk/wp-content/uploads/2021/05/champssmall.jpg
ORGANIZER;CN="Andy Marshall":MAILTO:marshall_andrew@sky.com
END:VEVENT
END:VCALENDAR