BEGIN:VCALENDAR
VERSION:2.0
PRODID:-//National Chinchilla Society - ECPv6.15.20//NONSGML v1.0//EN
CALSCALE:GREGORIAN
METHOD:PUBLISH
X-ORIGINAL-URL:https://nationalchinchillasociety.co.uk
X-WR-CALDESC:Events for National Chinchilla Society
REFRESH-INTERVAL;VALUE=DURATION:PT1H
X-Robots-Tag:noindex
X-PUBLISHED-TTL:PT1H
BEGIN:VTIMEZONE
TZID:Europe/London
BEGIN:DAYLIGHT
TZOFFSETFROM:+0000
TZOFFSETTO:+0100
TZNAME:BST
DTSTART:20240331T010000
END:DAYLIGHT
BEGIN:STANDARD
TZOFFSETFROM:+0100
TZOFFSETTO:+0000
TZNAME:GMT
DTSTART:20241027T010000
END:STANDARD
BEGIN:DAYLIGHT
TZOFFSETFROM:+0000
TZOFFSETTO:+0100
TZNAME:BST
DTSTART:20250330T010000
END:DAYLIGHT
BEGIN:STANDARD
TZOFFSETFROM:+0100
TZOFFSETTO:+0000
TZNAME:GMT
DTSTART:20251026T010000
END:STANDARD
BEGIN:DAYLIGHT
TZOFFSETFROM:+0000
TZOFFSETTO:+0100
TZNAME:BST
DTSTART:20260329T010000
END:DAYLIGHT
BEGIN:STANDARD
TZOFFSETFROM:+0100
TZOFFSETTO:+0000
TZNAME:GMT
DTSTART:20261025T010000
END:STANDARD
END:VTIMEZONE
BEGIN:VEVENT
DTSTART;TZID=Europe/London:20250209T080000
DTEND;TZID=Europe/London:20250209T170000
DTSTAMP:20260422T161057
CREATED:20240712T070603Z
LAST-MODIFIED:20260412T103727Z
UID:2478-1739088000-1739120400@nationalchinchillasociety.co.uk
SUMMARY:West Midlands\, Wales & Southern Regional Show (Joint)\, Hornton
DESCRIPTION:Judge: TBC.  Doors open 8am\, registration starts at 10am and judging commences at 10.45am.  A small entry fee of £2 per animal applies.  Forms for registration will be issued nearer to the show date.  Refreshments available and everyone is welcome!  More information about the shows can be found in the downloads area and for any further questions please contact us.
URL:https://nationalchinchillasociety.co.uk/events/west-midlands-wales-southern-regional-show-joint-hornton-2/
LOCATION:The Hornton Pavilion\, Bell Street\, Hornton\, Banbury\, OX15 6DB\, United Kingdom
ORGANIZER;CN="Heather Boncey":MAILTO:hevvabon@aol.co.uk
END:VEVENT
END:VCALENDAR